BEGIN:VCALENDAR
VERSION:2.0
PRODID:-//ChamberMaster//Event Calendar 2.0//EN
METHOD:PUBLISH
X-PUBLISHED-TTL:P3D
REFRESH-INTERVAL:P3D
CALSCALE:GREGORIAN
BEGIN:VEVENT
DTSTART:20250611T190000Z
DTEND:20250611T200000Z
X-MICROSOFT-CDO-ALLDAYEVENT:FALSE
SUMMARY:Fundraising for Nonprofits - Basics
DESCRIPTION:This WEBINAR provides an overview of Fundraising fundamentals to give participants an insight into which fundraising techniques should be part of their overall strategy. Designed for small non-profits\, the workshop covers grant writing\, special events and major giving. It explores the advantages and disadvantages of these techniques to help attendees begin choosing the methods best suited for their individual needs.
X-ALT-DESC;FMTTYPE=text/html:This WEBINAR provides an overview of Fundraising fundamentals to give participants an insight into which fundraising techniques should be part of their overall strategy. Designed for small non-profits\, the workshop covers grant writing\, special events and major giving. It explores the advantages and disadvantages of these techniques to help attendees begin choosing the methods best suited for their individual needs.
LOCATION:Online
UID:e.2303.17225
SEQUENCE:3
DTSTAMP:20260421T065539Z
URL:http://greatbend.chambermaster.com/events/details/fundraising-for-nonprofits-basics-17225
END:VEVENT

END:VCALENDAR
