BEGIN:VCALENDAR
VERSION:2.0
PRODID:-//ChamberMaster//Event Calendar 2.0//EN
METHOD:PUBLISH
X-PUBLISHED-TTL:P3D
REFRESH-INTERVAL:P3D
CALSCALE:GREGORIAN
BEGIN:VEVENT
DTSTART:20250725T220000Z
DTEND:20250726T030000Z
X-MICROSOFT-CDO-ALLDAYEVENT:FALSE
SUMMARY:Fridays on Forest
DESCRIPTION:Great Bend Alive presents Fridays on Forest\, sponsored by Equity Bank\, Innovative Livestock Services\, and Nex-Tech! The event will take place on Forest Avenue\, from Williams to Main\, on July 25th.\n\nWhat to expect?\n\nCome after work with your friends\, family\, or coworkers and sit outside with a beverage in your hand and enjoy some great food\, great music\, and a great time! Alcohol will be served in the district\, but CANNOT be brought into the district from outside. NO Smoking and no pets in the district\, Thank you!\n\nThis is a family atmosphere\, feel free to bring the whole gang! There will be security to ensure the safety of you and our properties. Worried about bathrooms?! Don't be\, we've got you covered! Bring your appetite - you'll have plenty to choose from!\n\nEnjoy Live Music\, Food\, and Family Fun!\n\n \n\nFood Vendors:\n\nLos Dos Potrillos\n\nLumpy's\n\nFlatlanders\n\nThe Local\n\nFreaking Delicious Cheesecake Co.\n\nGambinos (Buffet from 5 - 7pm on Friday Night)\n\n \n\nDrink Vendors:\n\nCHARLIE'S PLACE\n\nDRY LAKE BREWING\n\nLOS DOS POTRILLOS\n\nLUMPY'S\n\nAVAST YE JAVA\n\n  Check out the menu as we get closer to the event! https://www.gbedinc.com/downtownevents\n\n Check out the Facebook event here! https://www.facebook.com/events/1431628084547206
X-ALT-DESC;FMTTYPE=text/html:Great Bend Alive presents Fridays on Forest\, sponsored by Equity Bank\, Innovative Livestock Services\, and Nex-Tech! The event will take place on Forest Avenue\, from Williams to Main\, on July 25th.<br />\nWhat to expect?<br />\nCome after work with your friends\, family\, or coworkers and sit outside with a beverage in your hand and enjoy some great food\, great music\, and a great time! Alcohol will be served in the district\, but CANNOT be brought into the district from outside. NO Smoking and no pets in the district\, Thank you!<br />\nThis is a family atmosphere\, feel free to bring the whole gang! There will be security to ensure the safety of you and our properties. Worried about bathrooms?! Don&#39\;t be\, we&#39\;ve got you covered! Bring your appetite - you&#39\;ll have plenty to choose from!<br />\nEnjoy Live Music\, Food\, and Family Fun!<br />\n&#8203\;<br />\nFood Vendors:<br />\nLos Dos Potrillos<br />\nLumpy&rsquo\;s<br />\nFlatlanders<br />\nThe Local<br />\nFreaking Delicious Cheesecake Co.<br />\nGambinos (Buffet from 5 - 7pm on Friday Night)<br />\n&#8203\;<br />\nDrink Vendors:<br />\nCHARLIE&#39\;S PLACE<br />\nDRY LAKE BREWING<br />\nLOS DOS POTRILLOS<br />\nLUMPY&#39\;S<br />\nAVAST YE JAVA<br />\n&#128279\; Check out the menu as we get closer to the event! https://www.gbedinc.com/downtownevents<br />\n&#128279\;Check out the Facebook event here!&nbsp\;https://www.facebook.com/events/1431628084547206
LOCATION:Forest Avenue\, from Williams to Main Street
UID:e.2303.16870
SEQUENCE:3
DTSTAMP:20260421T034704Z
URL:http://greatbend.chambermaster.com/events/details/fridays-on-forest-16870
END:VEVENT

END:VCALENDAR
