BEGIN:VCALENDAR
VERSION:2.0
PRODID:-//ChamberMaster//Event Calendar 2.0//EN
METHOD:PUBLISH
X-PUBLISHED-TTL:P3D
REFRESH-INTERVAL:P3D
CALSCALE:GREGORIAN
BEGIN:VEVENT
DTSTART:20250413T020000Z
DTEND:20250413T033000Z
X-MICROSOFT-CDO-ALLDAYEVENT:FALSE
SUMMARY:Flashlight Easter Egg Hunt
DESCRIPTION:Bring your flashlights and join the Great Bend Rec for a Flashlight Easter Egg Hunt. Ages 3-12 will hunt over 10\,000 eggs at the Great Bend Sports Complex. The hunt will be divided by age brackets\, with the 9-12-year-olds hunting for camouflaged black eggs. Gates open at 8:45 PM and the hunt starts promptly at 9:15 PM on Saturday\, April 12th\, at the Great Bend Sports Complex\, so don't be late. Stay after the hunt as we light up the sky with a firework celebration. The firework show will start immediately following the hunt.\n\n\n\nPre-Registration is available by calling (620) 793-3755 ext. 110 or online at www.greatbendrec.com. A fee of $5.00 per child will be collected.
X-ALT-DESC;FMTTYPE=text/html:Bring your flashlights and join the Great Bend Rec for a Flashlight Easter Egg Hunt. Ages 3-12 will hunt over 10\,000 eggs at the Great Bend Sports Complex. The hunt will be divided by age brackets\, with the 9-12-year-olds hunting for camouflaged black eggs. Gates open at 8:45 PM and the hunt starts promptly at 9:15 PM on Saturday\, April 12th\, at the Great Bend Sports Complex\, so don&rsquo\;t be late. Stay after the hunt as we light up the sky with a firework celebration. The firework show will start immediately following the hunt.<br />\n<br />\nPre-Registration is available by calling (620) 793-3755 ext. 110 or online at www.greatbendrec.com. A fee of $5.00 per child will be collected.
LOCATION:Great Bend Sports Complex
UID:e.2303.16114
SEQUENCE:3
DTSTAMP:20260422T071004Z
URL:http://greatbend.chambermaster.com/events/details/flashlight-easter-egg-hunt-04-05-2025-16114
END:VEVENT

END:VCALENDAR
