BEGIN:VCALENDAR
VERSION:2.0
PRODID:-//ChamberMaster//Event Calendar 2.0//EN
METHOD:PUBLISH
X-PUBLISHED-TTL:P3D
REFRESH-INTERVAL:P3D
CALSCALE:GREGORIAN
BEGIN:VEVENT
DTSTART;VALUE=DATE:20260215
DTEND;VALUE=DATE:20260216
TRANSP:TRANSPARENT
X-MICROSOFT-CDO-ALLDAYEVENT:TRUE
SUMMARY:Final day to submit OBJ content!
DESCRIPTION:We welcome all member organizations to submit news and events content for publication in the monthly Outlook Business Journal. This is a great place to announce a new employee\, promote an event\, publicize awards\, or debut new products or services. All pre-written press releases in MLA or AP format provided by the 15th of the month will be considered for the next month's issue. Or use our small business shoutout form! (link down below) All items are subject to editorial discretion due to limited space. Email your print-ready content to gbcc@greatbend.org at any time!
X-ALT-DESC;FMTTYPE=text/html:We welcome all member organizations to submit news and events content for publication in the monthly Outlook Business Journal. This is a great place to announce a new employee\, promote an event\, publicize awards\, or debut new products or services. All pre-written press releases in MLA or AP format provided by the 15th of the month will be considered for the next month&rsquo\;s issue. Or use our small business shoutout form! (link down below) All items are subject to editorial discretion due to limited space. Email your print-ready content to gbcc@greatbend.org at any time!
LOCATION:
UID:e.2303.13839
SEQUENCE:3
DTSTAMP:20260421T143210Z
URL:http://greatbend.chambermaster.com/events/details/final-day-to-submit-obj-content-02-15-2026-13839
END:VEVENT

END:VCALENDAR
