BEGIN:VCALENDAR
VERSION:2.0
PRODID:-//ChamberMaster//Event Calendar 2.0//EN
METHOD:PUBLISH
X-PUBLISHED-TTL:P3D
REFRESH-INTERVAL:P3D
CALSCALE:GREGORIAN
BEGIN:VEVENT
DTSTART:20250419T170000Z
DTEND:20250419T200000Z
X-MICROSOFT-CDO-ALLDAYEVENT:FALSE
SUMMARY:Encounter Church Candy Blast
DESCRIPTION:Encounter Church is holding their annual candy blast again this year! Make sure to check out the games\, registration and prizes inside at 12pm. Then head out for the candy blast at 1! This event is for all kids 6th grade and younger.
X-ALT-DESC;FMTTYPE=text/html:Encounter Church is holding their annual candy blast again this year! Make sure to check out the games\, registration and prizes inside at 12pm. Then head out for the candy blast at 1! This event is for all kids 6th grade and younger.
LOCATION:601 S. Patton Rd\, Great Bend\, KS
UID:e.2303.16524
SEQUENCE:3
DTSTAMP:20260422T212531Z
URL:http://greatbend.chambermaster.com/events/details/encounter-church-candy-blast-16524
END:VEVENT

END:VCALENDAR
