BEGIN:VCALENDAR
VERSION:2.0
PRODID:-//ChamberMaster//Event Calendar 2.0//EN
METHOD:PUBLISH
X-PUBLISHED-TTL:P3D
REFRESH-INTERVAL:P3D
CALSCALE:GREGORIAN
BEGIN:VEVENT
DTSTART:20250624T140000Z
DTEND:20250624T170000Z
X-MICROSOFT-CDO-ALLDAYEVENT:FALSE
SUMMARY:Elevate Your Leadership Experience
DESCRIPTION:Partnering with Great Bend Chamber of Commerce\, This is a 6-week class on Tuesdays from 9:00 AM- Noon. Beginning on June 24th\, 2025\, and goes through Jul 29th\, 2025.\n\n\n\nClasses will be held at the Chamber of Commerce.\n\n\n\nRedefining Leadership.\n\n\n\nWhat prevents progress?\n\n\n\nWhere do we start?\n\n\n\nWhat is the productive zone?\n\n\n\nHow can everyone lead?
X-ALT-DESC;FMTTYPE=text/html:Partnering with Great Bend Chamber of Commerce\, This is a 6-week class on Tuesdays from 9:00 AM- Noon. Beginning on June 24th\, 2025\, and goes through Jul 29th\, 2025.<br />\n<br />\nClasses will be held at the Chamber of Commerce.<br />\n<br />\nRedefining Leadership.<br />\n<br />\nWhat prevents progress?<br />\n<br />\nWhere do we start?<br />\n<br />\nWhat is the productive zone?<br />\n<br />\nHow can everyone lead?
LOCATION:Great Bend Chamber
UID:e.2303.17025
SEQUENCE:3
DTSTAMP:20260423T140248Z
URL:http://greatbend.chambermaster.com/events/details/elevate-your-leadership-experience-17025
END:VEVENT

END:VCALENDAR
