BEGIN:VCALENDAR
VERSION:2.0
PRODID:-//ChamberMaster//Event Calendar 2.0//EN
METHOD:PUBLISH
X-PUBLISHED-TTL:P3D
REFRESH-INTERVAL:P3D
CALSCALE:GREGORIAN
BEGIN:VEVENT
DTSTART;VALUE=DATE:20250418
DTEND;VALUE=DATE:20250419
TRANSP:TRANSPARENT
X-MICROSOFT-CDO-ALLDAYEVENT:TRUE
SUMMARY:Eggstravaganza
DESCRIPTION:Eggs will be hidden all over participating stores with goodies and registration tickets so you can win prizes!
X-ALT-DESC;FMTTYPE=text/html:Eggs will be hidden all over participating stores with goodies and registration tickets so you can win prizes!
LOCATION:
UID:e.2303.16395
SEQUENCE:3
DTSTAMP:20260421T154349Z
URL:http://greatbend.chambermaster.com/events/details/eggstravaganza-04-18-2025-16395
END:VEVENT

END:VCALENDAR
