BEGIN:VCALENDAR
VERSION:2.0
PRODID:-//ChamberMaster//Event Calendar 2.0//EN
METHOD:PUBLISH
X-PUBLISHED-TTL:P3D
REFRESH-INTERVAL:P3D
CALSCALE:GREGORIAN
BEGIN:VEVENT
DTSTART:20250205T233000Z
DTEND:20250206T010000Z
X-MICROSOFT-CDO-ALLDAYEVENT:FALSE
SUMMARY:Domestic Violence Survivor Support Group
DESCRIPTION:There will be a domestic violence survivor support group held at the family crisis center in Great Bend. There will also be a meal provided!
X-ALT-DESC;FMTTYPE=text/html:There will be a domestic violence survivor support group held at the family crisis center in Great Bend. There will also be a meal provided!
LOCATION:1924 Broadway Great Bend\, KS
UID:e.2303.16351
SEQUENCE:3
DTSTAMP:20260423T063238Z
URL:http://greatbend.chambermaster.com/events/details/domestic-violence-survivor-support-group-16351
END:VEVENT

END:VCALENDAR
