BEGIN:VCALENDAR
VERSION:2.0
PRODID:-//ChamberMaster//Event Calendar 2.0//EN
METHOD:PUBLISH
X-PUBLISHED-TTL:P3D
REFRESH-INTERVAL:P3D
CALSCALE:GREGORIAN
BEGIN:VEVENT
DTSTART:20241105T170000Z
DTEND:20241105T190000Z
X-MICROSOFT-CDO-ALLDAYEVENT:FALSE
SUMMARY:Dining with Diabetes
DESCRIPTION:Managing Diabetes Together: Dining with Diabetes Series Are you or someone you care for living with type 1 or type 2 diabetes? Join us this November during American Diabetes Month for a Dining with Diabetes series in Great Bend! Hosted by Cottonwood District Family and Community Wellness Agents\, Karissa Winkel and Monique Koerner\, this series offers hands-on cooking experience with diabetes-friendly recipes. In addition to learning how to prepare delicious meals\, you'll discover valuable strategies to help manage diabetes effectively. Plus\, lunch is included! Don't miss this opportunity to enhance your health and cooking skills in a supportive\, educational environment.
X-ALT-DESC;FMTTYPE=text/html:Managing Diabetes Together: Dining with Diabetes Series Are you or someone you care for living with type 1 or type 2 diabetes? Join us this November during American Diabetes Month for a Dining with Diabetes series in Great Bend! Hosted by Cottonwood District Family and Community Wellness Agents\, Karissa Winkel and Monique Koerner\, this series offers hands-on cooking experience with diabetes-friendly recipes. In addition to learning how to prepare delicious meals\, you&#39\;ll discover valuable strategies to help manage diabetes effectively. Plus\, lunch is included! Don&rsquo\;t miss this opportunity to enhance your health and cooking skills in a supportive\, educational environment.
LOCATION:Trinity Lutheran Church: 2701 24th St\, Great Bend\, KS 67530
UID:e.2303.14993
SEQUENCE:3
DTSTAMP:20260425T000006Z
URL:http://greatbend.chambermaster.com/events/details/dining-with-diabetes-14993
END:VEVENT

END:VCALENDAR
