BEGIN:VCALENDAR
VERSION:2.0
PRODID:-//ChamberMaster//Event Calendar 2.0//EN
METHOD:PUBLISH
X-PUBLISHED-TTL:P3D
REFRESH-INTERVAL:P3D
CALSCALE:GREGORIAN
BEGIN:VEVENT
DTSTART:20250328T233000Z
DTEND:20250329T010000Z
X-MICROSOFT-CDO-ALLDAYEVENT:FALSE
SUMMARY:Dancing with the Cougars
DESCRIPTION:"Dancing with the Cougars" returns this year with another dance workshop for the community featuring a tango dance class at 6:30 p.m. March 28 in Studio 34\, and all proceeds go to support Barton Dance Theatre's trip to Chicago in May.\n\n\n\nBarton Dance Instructor Danika Bielek will teach the class\, and she has danced the Tango for over a decade. The class will cover the fundamentals of the Tango\, including the basic steps\, musicality\, body alignment\, and connecting with your dance partner.\n\n\n\nBielek said she is excited to share this class with the community.\n\n\n\n"The Tango is such a distinctive style of dance with a rich cultural background and many positive benefits\," she said. "It's a full-body\, gentle workout that increases body awareness while enhancing balance and memory skills. Plus\, it is a great way to connect with a friend or someone you love."\n\n\n\nTo Register\, visit shows.bartonccc.edu or contact Bielek at bielekd@bartonccc.edu or (620) 792-9253. Admission is $10 per person or $15 if attendees bring a dance partner.
X-ALT-DESC;FMTTYPE=text/html:&quot\;Dancing with the Cougars&quot\; returns this year with another dance workshop for the community featuring a tango dance class at 6:30 p.m. March 28 in Studio 34\, and all proceeds go to support Barton Dance Theatre&#39\;s trip to Chicago in May.<br />\n<br />\nBarton Dance Instructor Danika Bielek will teach the class\, and she has danced the Tango for over a decade. The class will cover the fundamentals of the Tango\, including the basic steps\, musicality\, body alignment\, and connecting with your dance partner.<br />\n<br />\nBielek said she is excited to share this class with the community.<br />\n<br />\n&ldquo\;The Tango is such a distinctive style of dance with a rich cultural background and many positive benefits\,&rdquo\; she said. &ldquo\;It&rsquo\;s a full-body\, gentle workout that increases body awareness while enhancing balance and memory skills. Plus\, it is a great way to connect with a friend or someone you love.&rdquo\;<br />\n<br />\nTo Register\, visit shows.bartonccc.edu or contact Bielek at bielekd@bartonccc.edu or (620) 792-9253. Admission is $10 per person or $15 if attendees bring a dance partner.
LOCATION:Barton Community College\, Studio 34
UID:e.2303.16568
SEQUENCE:3
DTSTAMP:20260422T053630Z
URL:http://greatbend.chambermaster.com/events/details/dancing-with-the-cougars-16568
END:VEVENT

END:VCALENDAR
