BEGIN:VCALENDAR
VERSION:2.0
PRODID:-//ChamberMaster//Event Calendar 2.0//EN
METHOD:PUBLISH
X-PUBLISHED-TTL:P3D
REFRESH-INTERVAL:P3D
CALSCALE:GREGORIAN
BEGIN:VEVENT
DTSTART:20241115T003000Z
DTEND:20241115T023000Z
X-MICROSOFT-CDO-ALLDAYEVENT:FALSE
SUMMARY:Dancing Around the World
DESCRIPTION:6:30 p.m.\, Studio 34\, Students from the History of Dance class will present their research on dances from their heritage. Free event. Open to the public.
X-ALT-DESC;FMTTYPE=text/html:6:30 p.m.\, Studio 34\, Students from the History of Dance class will present their research on dances from their heritage. Free event. Open to the public.
LOCATION:Studio 34\, Barton County Community College
UID:e.2303.15132
SEQUENCE:3
DTSTAMP:20260424T011217Z
URL:http://greatbend.chambermaster.com/events/details/dancing-around-the-world-15132
END:VEVENT

END:VCALENDAR
