BEGIN:VCALENDAR
VERSION:2.0
PRODID:-//ChamberMaster//Event Calendar 2.0//EN
METHOD:PUBLISH
X-PUBLISHED-TTL:P3D
REFRESH-INTERVAL:P3D
CALSCALE:GREGORIAN
BEGIN:VEVENT
DTSTART:20241104T143000Z
DTEND:20241104T160000Z
X-MICROSOFT-CDO-ALLDAYEVENT:FALSE
SUMMARY:Cultivate a Leadership Mindset
DESCRIPTION:In this class you will dive into the distinction between authority and leadership\, exploring that the idea of leadership is not about a title or position but about action. This online webinar is led by Kimberly Becker and will be hosted Nov. 4th and Nov. 19th.
X-ALT-DESC;FMTTYPE=text/html:In this class you will dive into the distinction between authority and leadership\, exploring that the idea of leadership is not about a title or position but about action. This online webinar is led by Kimberly Becker and will be hosted Nov. 4th and Nov. 19th.
LOCATION:There is a link to register online in the graphic below
UID:e.2303.15007
SEQUENCE:3
DTSTAMP:20260426T041243Z
URL:http://greatbend.chambermaster.com/events/details/cultivate-a-leadership-mindset-15007
END:VEVENT

END:VCALENDAR
