BEGIN:VCALENDAR
VERSION:2.0
PRODID:-//ChamberMaster//Event Calendar 2.0//EN
METHOD:PUBLISH
X-PUBLISHED-TTL:P3D
REFRESH-INTERVAL:P3D
CALSCALE:GREGORIAN
BEGIN:VEVENT
DTSTART:20250618T230000Z
DTEND:20250619T010000Z
X-MICROSOFT-CDO-ALLDAYEVENT:FALSE
SUMMARY:Creating and Formatting Documents With Confidence
DESCRIPTION:This hands-on course introduces you to Microsoft word. Learn how to create\, format\, save and print documents. Prefect for beginners who want to build basic word processing skills for work.\, school\, or personal use.
X-ALT-DESC;FMTTYPE=text/html:This hands-on course introduces you to Microsoft word. Learn how to create\, format\, save and print documents. Prefect for beginners who want to build basic word processing skills for work.\, school\, or personal use.&nbsp\;
LOCATION:Great Bend Public Library 1409 Williams St.
UID:e.2303.17188
SEQUENCE:3
DTSTAMP:20260421T210929Z
URL:http://greatbend.chambermaster.com/events/details/creating-and-formatting-documents-with-confidence-17188
END:VEVENT

END:VCALENDAR
