BEGIN:VCALENDAR
VERSION:2.0
PRODID:-//ChamberMaster//Event Calendar 2.0//EN
METHOD:PUBLISH
X-PUBLISHED-TTL:P3D
REFRESH-INTERVAL:P3D
CALSCALE:GREGORIAN
BEGIN:VEVENT
DTSTART:20250227T233000Z
DTEND:20250228T010000Z
X-MICROSOFT-CDO-ALLDAYEVENT:FALSE
SUMMARY:Conscious Discipline Parenting Workshop
DESCRIPTION:There will be a conscious discipline and parenting workshop at the Great Bend office. There is also daycare and meal provided!
X-ALT-DESC;FMTTYPE=text/html:There will be a conscious discipline and parenting workshop at the Great Bend office. There is also daycare and meal provided!
LOCATION:1924 Broadway Ave. Great Bend\, KS
UID:e.2303.16359
SEQUENCE:3
DTSTAMP:20260422T071344Z
URL:http://greatbend.chambermaster.com/events/details/conscious-discipline-parenting-workshop-16359
END:VEVENT

END:VCALENDAR
