BEGIN:VCALENDAR
VERSION:2.0
PRODID:-//ChamberMaster//Event Calendar 2.0//EN
METHOD:PUBLISH
X-PUBLISHED-TTL:P3D
REFRESH-INTERVAL:P3D
CALSCALE:GREGORIAN
BEGIN:VEVENT
DTSTART:20250419T173000Z
DTEND:20250419T190000Z
X-MICROSOFT-CDO-ALLDAYEVENT:FALSE
SUMMARY:Community Garden Get-Going!
DESCRIPTION:Everyone is welcome to come out to the Barton County Historical Village and help plant seeds\, seedlings\, and plant markers! This is all first come\, first serve.
X-ALT-DESC;FMTTYPE=text/html:Everyone is welcome to come out to the Barton County Historical Village and help plant seeds\, seedlings\, and plant markers! This is all first come\, first serve.&nbsp\;
LOCATION:85 US HWY 281
UID:e.2303.16592
SEQUENCE:3
DTSTAMP:20260424T033606Z
URL:http://greatbend.chambermaster.com/events/details/community-garden-get-going-16592
END:VEVENT

END:VCALENDAR
