BEGIN:VCALENDAR
VERSION:2.0
PRODID:-//ChamberMaster//Event Calendar 2.0//EN
METHOD:PUBLISH
X-PUBLISHED-TTL:P3D
REFRESH-INTERVAL:P3D
CALSCALE:GREGORIAN
BEGIN:VEVENT
DTSTART;VALUE=DATE:20250423
DTEND;VALUE=DATE:20250424
TRANSP:TRANSPARENT
X-MICROSOFT-CDO-ALLDAYEVENT:TRUE
SUMMARY:CO.starters Core Program
DESCRIPTION:The CO.STARTERS Core program prepares aspiring entrepreneurs with insights\, relationships\, and tools needed to turn their business ideas into action. CO.STARTERS is designed to shorten the time it takes to develop great ideas into thriving businesses by applying lean business model methods popular with high-growth startups.
X-ALT-DESC;FMTTYPE=text/html:The CO.STARTERS Core program prepares aspiring entrepreneurs with insights\, relationships\, and tools needed to turn their business ideas into action. CO.STARTERS is designed to shorten the time it takes to develop great ideas into thriving businesses by applying lean business model methods popular with high-growth startups.
LOCATION:
UID:e.2303.16103
SEQUENCE:3
DTSTAMP:20260421T133942Z
URL:http://greatbend.chambermaster.com/events/details/co-starters-core-program-04-23-2025-16103
END:VEVENT

END:VCALENDAR
