BEGIN:VCALENDAR
VERSION:2.0
PRODID:-//ChamberMaster//Event Calendar 2.0//EN
METHOD:PUBLISH
X-PUBLISHED-TTL:P3D
REFRESH-INTERVAL:P3D
CALSCALE:GREGORIAN
BEGIN:VEVENT
DTSTART;VALUE=DATE:20241030
DTEND;VALUE=DATE:20241031
TRANSP:TRANSPARENT
X-MICROSOFT-CDO-ALLDAYEVENT:TRUE
SUMMARY:CO. STARTERS CORE
DESCRIPTION:The CO.STARTERS Core program prepares aspiring entrepreneurs with insights\, relationships\, and tools needed to turn their business ideas into action. CO.STARTERS is designed to shorten the time it takes to develop great ideas into thriving businesses by applying lean business model methods popular with high-growth startups. \n\n\n\nParticipants will learn how to identify key assumptions about why and how their business will work in real-world scenarios. This approach enables participants to rapidly uncover flaws in their concepts and quickly adjust their business models. \n\nTrusted by over 24\,000 entrepreneurs\, CO.STARTERS Core might be for you if:\n\nYou have a business idea\, but have no idea how to actually start a business\n\nYou have a creative hobby (like photography\, baking\, pottery\, etc.) that you'd love to monetize\n\nYou have a side-hustle\, but you aren't sure if you could turn it into a full-time gig\n\nYou've started a business\, but feel stuck trying to scale it or launch a new revenue stream
X-ALT-DESC;FMTTYPE=text/html:The CO.STARTERS Core program prepares aspiring entrepreneurs with insights\, relationships\, and tools needed to turn their business ideas into action. CO.STARTERS is designed to shorten the time it takes to develop great ideas into thriving businesses by applying lean business model methods popular with high-growth startups.&nbsp\;<br />\n<br />\nParticipants will learn how to identify key assumptions about why and how their business will work in real-world scenarios. This approach enables participants to rapidly uncover flaws in their concepts and quickly adjust their business models.&nbsp\;<br />\nTrusted by over 24\,000 entrepreneurs\, CO.STARTERS Core might be for you if:<br />\nYou have a business idea\, but have no idea how to actually start a business<br />\nYou have a creative hobby (like photography\, baking\, pottery\, etc.) that you&rsquo\;d love to monetize<br />\nYou have a side-hustle\, but you aren&rsquo\;t sure if you could turn it into a full-time gig<br />\nYou&rsquo\;ve started a business\, but feel stuck trying to scale it or launch a new revenue stream
LOCATION:
UID:e.2303.13957
SEQUENCE:3
DTSTAMP:20260423T222456Z
URL:http://greatbend.chambermaster.com/events/details/co-starters-core-10-30-2024-13957
END:VEVENT

END:VCALENDAR
