BEGIN:VCALENDAR
VERSION:2.0
PRODID:-//ChamberMaster//Event Calendar 2.0//EN
METHOD:PUBLISH
X-PUBLISHED-TTL:P3D
REFRESH-INTERVAL:P3D
CALSCALE:GREGORIAN
BEGIN:VEVENT
DTSTART:20250801T140000Z
DTEND:20250802T000000Z
X-MICROSOFT-CDO-ALLDAYEVENT:FALSE
SUMMARY:CKCA Enrollment Day
DESCRIPTION:The CKCA enrollment Day will take place on August 1st\, 2025 9a-1p & 5-7p come and go. This is open to anyone in the community that is interested in our school!\n\nThere are alot of fun and exciting new things happening at CKCA. We have hired 3 new teacher for this school year as well as have a new after school program starting 2025-26 school year. The program is called W.O.W. or Warriors Of the Word. W.O.W. is designed to support our students growth in a fun and faith-filled environment. There will be play\, crafts\, healthy snacks\, tutoring & homework help as well as bible study!
X-ALT-DESC;FMTTYPE=text/html:The CKCA enrollment Day will take place on August 1st\, 2025 9a-1p &amp\; 5-7p come and go. This is open to anyone in the community that is interested in our school!<br />\nThere are alot of fun and exciting new things happening at CKCA. We have hired 3 new teacher for this school year as well as have a new after school program starting 2025-26 school year. The program is called W.O.W. or Warriors Of the Word. W.O.W. is designed to support our students growth in a fun and faith-filled environment. There will be play\, crafts\, healthy snacks\, tutoring &amp\; homework help as well as bible study!
LOCATION:215 Mckinley St\, Great Bend
UID:e.2303.17302
SEQUENCE:3
DTSTAMP:20260421T181104Z
URL:http://greatbend.chambermaster.com/events/details/ckca-enrollment-day-17302
END:VEVENT

END:VCALENDAR
