BEGIN:VCALENDAR
VERSION:2.0
PRODID:-//ChamberMaster//Event Calendar 2.0//EN
METHOD:PUBLISH
X-PUBLISHED-TTL:P3D
REFRESH-INTERVAL:P3D
CALSCALE:GREGORIAN
BEGIN:VEVENT
DTSTART:20240704T003000Z
DTEND:20240704T030000Z
X-MICROSOFT-CDO-ALLDAYEVENT:FALSE
SUMMARY:City Firework Display
DESCRIPTION:Head out to the Great Bend Expo Complex for a firework display! Gates open at 7:30PM. You can tune into 100.7 FM at 8:30PM for announcements.  The firework show begins at 9:45PM and ends at 10PM. Come out and have some fun!
X-ALT-DESC;FMTTYPE=text/html:Head out to the Great Bend Expo Complex for a firework display! Gates open at 7:30PM. You can tune into 100.7 FM at 8:30PM for announcements.&nbsp\; The firework show begins at 9:45PM and ends at 10PM. Come out and have some fun!
LOCATION:Great Bend Expo complex
UID:e.2303.13309
SEQUENCE:3
DTSTAMP:20260425T121823Z
URL:http://greatbend.chambermaster.com/events/details/city-firework-display-13309
END:VEVENT

END:VCALENDAR
