BEGIN:VCALENDAR
VERSION:2.0
PRODID:-//ChamberMaster//Event Calendar 2.0//EN
METHOD:PUBLISH
X-PUBLISHED-TTL:P3D
REFRESH-INTERVAL:P3D
CALSCALE:GREGORIAN
BEGIN:VEVENT
DTSTART:20241109T223000Z
DTEND:20241110T033000Z
X-MICROSOFT-CDO-ALLDAYEVENT:FALSE
SUMMARY:Cirque- Luz Dalia
DESCRIPTION:The Cirque is coming to Great Bend! Come out and have a fun night at the Barton County Fair. For %50 off tickets use code CIRCUSFUN in the online checkout! There will be  a performance at 4:30 PM and 7:30 PM.
X-ALT-DESC;FMTTYPE=text/html:The Cirque is coming to Great Bend! Come out and have a fun night at the Barton County Fair. For %50 off tickets use code CIRCUSFUN in the online checkout! There will be&nbsp\; a performance at 4:30 PM and 7:30 PM.
LOCATION:Barton County Fairgrounds
UID:e.2303.15041
SEQUENCE:3
DTSTAMP:20260424T144325Z
URL:http://greatbend.chambermaster.com/events/details/cirque-luz-dalia-15041
END:VEVENT

END:VCALENDAR
