BEGIN:VCALENDAR
VERSION:2.0
PRODID:-//ChamberMaster//Event Calendar 2.0//EN
METHOD:PUBLISH
X-PUBLISHED-TTL:P3D
REFRESH-INTERVAL:P3D
CALSCALE:GREGORIAN
BEGIN:VEVENT
DTSTART:20250307T233000Z
DTEND:20250308T010000Z
X-MICROSOFT-CDO-ALLDAYEVENT:FALSE
SUMMARY:Chicken Fried Steak Night
DESCRIPTION:The VFW is holding a chicken fried steak night!
X-ALT-DESC;FMTTYPE=text/html:The VFW is holding a chicken fried steak night!
LOCATION:1011 Kansas Ave. Great Bend\, KS
UID:e.2303.16422
SEQUENCE:3
DTSTAMP:20260422T043058Z
URL:http://greatbend.chambermaster.com/events/details/chicken-fried-steak-night-16422
END:VEVENT

END:VCALENDAR
