BEGIN:VCALENDAR
VERSION:2.0
PRODID:-//ChamberMaster//Event Calendar 2.0//EN
METHOD:PUBLISH
X-PUBLISHED-TTL:P3D
REFRESH-INTERVAL:P3D
CALSCALE:GREGORIAN
BEGIN:VEVENT
DTSTART:20250401T180000Z
DTEND:20250401T200000Z
X-MICROSOFT-CDO-ALLDAYEVENT:FALSE
SUMMARY:Chamber Solutions Health Plan Webinar
DESCRIPTION:This zoom meeting will be held to help educate its listeners on the Chamber Solutions Healthcare Program. You must register in advance for this meeting to attend. Check it out to see what kind of benefits you can earn!\n\n\n\nLearn more here: https://www.greatbend.org/chamberhealthplan
X-ALT-DESC;FMTTYPE=text/html:This zoom meeting will be held to help educate its listeners on the&nbsp\;Chamber Solutions Healthcare Program. You must register in advance for this meeting to attend. Check it out to see what kind of benefits you can earn!<br />\n<br />\nLearn more here:&nbsp\;<a href="https://www.greatbend.org/chamberhealthplan">https://www.greatbend.org/chamberhealthplan</a>
LOCATION:Zoom
UID:e.2303.16567
SEQUENCE:3
DTSTAMP:20260421T154349Z
URL:http://greatbend.chambermaster.com/events/details/chamber-solutions-health-plan-webinar-16567
END:VEVENT

END:VCALENDAR
