BEGIN:VCALENDAR
VERSION:2.0
PRODID:-//ChamberMaster//Event Calendar 2.0//EN
METHOD:PUBLISH
X-PUBLISHED-TTL:P3D
REFRESH-INTERVAL:P3D
CALSCALE:GREGORIAN
BEGIN:VEVENT
DTSTART:20250306T150000Z
DTEND:20250306T160000Z
X-MICROSOFT-CDO-ALLDAYEVENT:FALSE
SUMMARY:Chamber Coffee - Avast Ye Java
DESCRIPTION:Chamber Coffee Today   \n\nJoin the Great Bend Chamber of Commerce for a Chamber Coffee to celebrate Avast Ye Java coffee trailer! Enjoy a cup of their specialty coffee! The coffee trailer will be set up from 7:00am-2:00pm at the Chamber office\, serving specialty coffees (hot or iced)\, chai teas\, flavored lemonades\, and Red Bull energizers. This mobile specialty coffee trailer is available for fundraising\, weddings\, events\, and customer/employee appreciations. Don't miss out on this exciting opportunity to grab your favorite drink and kick off the day right! Come purchase a cup of brew\, connect with others\, and stay in the know about what's happening in our vibrant community. Doors open at 9:00 AM\, and the program begins at 9:30 AM.
X-ALT-DESC;FMTTYPE=text/html:<p><span style="font-size:18px\;">&#9749\;&#65039\; <strong>Chamber Coffee Today</strong> &#9728\;&#65039\;<br />\nJoin the Great Bend Chamber of Commerce for a Chamber Coffee to celebrate <strong>Avast Ye Java</strong> coffee trailer! Enjoy a cup of their specialty coffee! The coffee trailer will be set up from 7:00am-2:00pm&nbsp\;at the Chamber office\, serving specialty coffees (hot or iced)\, chai teas\, flavored lemonades\, and Red Bull energizers. This mobile specialty coffee trailer is available for fundraising\, weddings\, events\, and customer/employee appreciations. Don&rsquo\;t miss out on this exciting opportunity to grab your favorite drink and kick off the day right!&nbsp\;Come purchase a cup of brew\,&nbsp\;connect with others\, and stay in the know about what&rsquo\;s happening in our vibrant community. Doors open at 9:00 AM\, and the program begins at 9:30 AM.</span></p>\n
LOCATION:Great Bend Chamber of Commerce - Chamber Board Room 1125 Williams St Great Bend\, KS 67530
UID:e.2303.15152
SEQUENCE:3
DTSTAMP:20260422T063453Z
URL:http://greatbend.chambermaster.com/events/details/chamber-coffee-avast-ye-java-15152
END:VEVENT

END:VCALENDAR
