BEGIN:VCALENDAR
VERSION:2.0
PRODID:-//ChamberMaster//Event Calendar 2.0//EN
METHOD:PUBLISH
X-PUBLISHED-TTL:P3D
REFRESH-INTERVAL:P3D
CALSCALE:GREGORIAN
BEGIN:VEVENT
DTSTART:20240523T200000Z
DTEND:20240523T210000Z
X-MICROSOFT-CDO-ALLDAYEVENT:FALSE
SUMMARY:CanvaCreate:Work Redesigned
DESCRIPTION:Discover Canva's new launches on May 23 online and hear from industry leaders and take part in hands-on demos. Hear from keynote speakers like The Co-Founders: - Melanie Perkins - Cliff Obrecht - Cameron Adams and - Bob Igor - CEO of The Walt Disney Company - Nekesa Mumbi Moody - Co-Editor-in-Chief at The Hollywood Reporter - Guy Kawasaki - Chief Evangelist of Canva and host of Remarkable People podcast\n\n\n\nhttps://www.canva.com/canva-create/?utm_medium=email&utm_source=mailchimp_email&utm_campaign=2024canvacreate
X-ALT-DESC;FMTTYPE=text/html:Discover Canva&#39\;s new launches on May 23 online and hear from industry leaders and take part in hands-on demos. Hear from keynote speakers like The Co-Founders: - Melanie Perkins - Cliff Obrecht - Cameron Adams and - Bob Igor - CEO of The Walt Disney Company - Nekesa Mumbi Moody - Co-Editor-in-Chief at The Hollywood Reporter - Guy Kawasaki - Chief Evangelist of Canva and host of Remarkable People podcast<br />\n<br />\nhttps://www.canva.com/canva-create/?utm_medium=email&amp\;utm_source=mailchimp_email&amp\;utm_campaign=2024canvacreate
LOCATION:Online https://www.canva.com/canva-create/?utm_medium=email&utm_source=mailchimp_email&utm_campaign=2024canvacreate
UID:e.2303.13600
SEQUENCE:3
DTSTAMP:20260425T201320Z
URL:http://greatbend.chambermaster.com/events/details/canvacreate-work-redesigned-13600
END:VEVENT

END:VCALENDAR
