BEGIN:VCALENDAR
VERSION:2.0
PRODID:-//ChamberMaster//Event Calendar 2.0//EN
METHOD:PUBLISH
X-PUBLISHED-TTL:P3D
REFRESH-INTERVAL:P3D
CALSCALE:GREGORIAN
BEGIN:VEVENT
DTSTART:20250814T140000Z
DTEND:20250814T150000Z
X-MICROSOFT-CDO-ALLDAYEVENT:FALSE
SUMMARY:Business Operations with AI
DESCRIPTION:Curious how AI can help your small business run smoother?  Join us for a friendly\, hands-on training where we'll explore simple tools to save time\, improve customer service\, and make smarter decisions.  No tech background needed-just bring your curiosity and lave with practical ideas you can use right away.
X-ALT-DESC;FMTTYPE=text/html:Curious how AI can help your small business run smoother?&nbsp\; Join us for a friendly\, hands-on training where we&#39\;ll explore simple tools to save time\, improve customer service\, and make smarter decisions.&nbsp\; No tech background needed-just bring your curiosity and lave with practical ideas you can use right away.
LOCATION:Online
UID:e.2303.17760
SEQUENCE:3
DTSTAMP:20260425T000005Z
URL:http://greatbend.chambermaster.com/events/details/business-operations-with-ai-17760
END:VEVENT

END:VCALENDAR
