BEGIN:VCALENDAR
VERSION:2.0
PRODID:-//ChamberMaster//Event Calendar 2.0//EN
METHOD:PUBLISH
X-PUBLISHED-TTL:P3D
REFRESH-INTERVAL:P3D
CALSCALE:GREGORIAN
BEGIN:VEVENT
DTSTART:20241227T010000Z
DTEND:20241227T030000Z
X-MICROSOFT-CDO-ALLDAYEVENT:FALSE
SUMMARY:Bingo!
DESCRIPTION:Join us at American Legion Post 180 for Bingo Night\, happening every Tuesday and Thursday evening! The club opens its doors at 5:30 PM\, giving you plenty of time to get settled before the fun begins. Starting at 6:00 PM\, enjoy the excitement of pull tabs\, a perfect warm-up to the main event.\n\nAt 7:00 PM\, it's time for bingo! With a variety of progressive jackpots that change each week\, there's always a chance to win big. One special game each night boasts a $1\,000 progressive prize\, making every round even more thrilling. Whether you're a seasoned bingo player or new to the game\, there's fun to be had by all.\n\nThis event is open to the public\, so bring your friends and family for an evening of community and entertainment. Grab a snack\, enjoy the friendly atmosphere\, and see if you have what it takes to call "Bingo!"
X-ALT-DESC;FMTTYPE=text/html:<p>Join us at American Legion Post 180 for Bingo Night\, happening every Tuesday and Thursday evening! The club opens its doors at 5:30 PM\, giving you plenty of time to get settled before the fun begins. Starting at 6:00 PM\, enjoy the excitement of pull tabs\, a perfect warm-up to the main event.</p>\n\n<p>At 7:00 PM\, it&rsquo\;s time for bingo! With a variety of progressive jackpots that change each week\, there&#39\;s always a chance to win big. One special game each night boasts a $1\,000 progressive prize\, making every round even more thrilling. Whether you&rsquo\;re a seasoned bingo player or new to the game\, there&rsquo\;s fun to be had by all.</p>\n\n<p>This event is open to the public\, so bring your friends and family for an evening of community and entertainment. Grab a snack\, enjoy the friendly atmosphere\, and see if you have what it takes to call &quot\;Bingo!&quot\;</p>\n
LOCATION:American Legion Post 180 1011 Kansas Ave Great Bend\, KS 67530
UID:e.2303.15170
SEQUENCE:3
DTSTAMP:20260423T012455Z
URL:http://greatbend.chambermaster.com/events/details/bingo-15170
END:VEVENT

END:VCALENDAR
