BEGIN:VCALENDAR
VERSION:2.0
PRODID:-//ChamberMaster//Event Calendar 2.0//EN
METHOD:PUBLISH
X-PUBLISHED-TTL:P3D
REFRESH-INTERVAL:P3D
CALSCALE:GREGORIAN
BEGIN:VEVENT
DTSTART:20250607T150000Z
DTEND:20250607T230000Z
X-MICROSOFT-CDO-ALLDAYEVENT:FALSE
SUMMARY:Big Bend Bash
DESCRIPTION:On June 7\, 2025\, from 10 AM to 6 PM\, downtown Great Bend\, KS will come alive with the First Annual Big Bend Bash   a day packed with excitement\, entertainment\, and community spirit\, all in support of downtown streetscape improvements!\n\n10-11AM is the Red\, White\, & Blue Parade! You want want to miss the large parade balloons that bring the Macy's vibe the GBK!\n\n11-6PM is the vendor and food market! Check out the 50+ food\, drink\, and merchandise vendors! Make sure to grab your foodie passport for a chance to try all the good eats!\n\n11-3PM is the Bike\, Brew\, Q! VIP starts at 11\, and the Brewfest opens at 12. Tickets are sold are sold at www.bikebrewq.com/ or at the door!\n\n11-6PM is all the live music and entertainment! Check out the Hunter Hughes Bank at 11-1:30. Lightfoot & Buehler plays at 1:30-4. Then Kauffman Hammeke plays 4-6!\n\n11-6PM the family fun zone is open! There will be bounce houses\, balloon artists\, face painting\, yard games\, and live entertainment!\n\n11-6PM is the Shifters Car Show! Bring your vintage wheels\, hotrods\, and more to get entered into win the best in show prizes!\n\nThis incredible event is brought to you by Great Bend Alive\, Inc.\, the City of Great Bend\, Shifters Car Club\, and Bike\, Brew\, Q all coming together to support a better\, brighter downtown.
X-ALT-DESC;FMTTYPE=text/html:On June 7\, 2025\, from 10 AM to 6 PM\, downtown Great Bend\, KS will come alive with the First Annual Big Bend Bash &ndash\; a day packed with excitement\, entertainment\, and community spirit\, all in support of downtown streetscape improvements!<br />\n10-11AM is the Red\, White\, &amp\; Blue Parade! You want want to miss the large parade balloons that bring the Macy&#39\;s vibe the GBK!<br />\n11-6PM is the vendor and food market! Check out the 50+ food\, drink\, and merchandise vendors! Make sure to grab your foodie passport for a chance to try all the good eats!<br />\n11-3PM is the Bike\, Brew\, Q! VIP starts at 11\, and the Brewfest opens at 12. Tickets are sold are sold at www.bikebrewq.com/ or at the door!<br />\n11-6PM is all the live music and entertainment! Check out the Hunter Hughes Bank at 11-1:30. Lightfoot &amp\; Buehler plays at 1:30-4. Then Kauffman Hammeke plays 4-6!<br />\n11-6PM the family fun zone is open! There will be bounce houses\, balloon artists\, face painting\, yard games\, and live entertainment!<br />\n11-6PM is the Shifters Car Show! Bring your vintage wheels\, hotrods\, and more to get entered into win the best in show prizes!<br />\nThis incredible event is brought to you by Great Bend Alive\, Inc.\, the City of Great Bend\, Shifters Car Club\, and Bike\, Brew\, Q&mdash\;all coming together to support a better\, brighter downtown.
LOCATION:Downtown Great Bend KS
UID:e.2303.16577
SEQUENCE:3
DTSTAMP:20260422T040611Z
URL:http://greatbend.chambermaster.com/events/details/big-bend-bash-16577
END:VEVENT

END:VCALENDAR
