BEGIN:VCALENDAR
VERSION:2.0
PRODID:-//ChamberMaster//Event Calendar 2.0//EN
METHOD:PUBLISH
X-PUBLISHED-TTL:P3D
REFRESH-INTERVAL:P3D
CALSCALE:GREGORIAN
BEGIN:VEVENT
DTSTART:20250929T233000Z
DTEND:20250930T003000Z
X-MICROSOFT-CDO-ALLDAYEVENT:FALSE
SUMMARY:BCC Volleyball
DESCRIPTION:Barton vs. Seward County Community College.
X-ALT-DESC;FMTTYPE=text/html:<span style="color: rgb(80\, 0\, 80)\; font-family: Calibri\, sans-serif\; font-size: 14.6667px\;">Barton vs. Seward County Community College.</span>
LOCATION:BCC Kirkman Gym
UID:e.2303.17973
SEQUENCE:3
DTSTAMP:20260420T075456Z
URL:http://greatbend.chambermaster.com/events/details/bcc-volleyball-17973
END:VEVENT

END:VCALENDAR
