BEGIN:VCALENDAR
VERSION:2.0
PRODID:-//ChamberMaster//Event Calendar 2.0//EN
METHOD:PUBLISH
X-PUBLISHED-TTL:P3D
REFRESH-INTERVAL:P3D
CALSCALE:GREGORIAN
BEGIN:VEVENT
DTSTART:20250924T233000Z
DTEND:20250925T003000Z
X-MICROSOFT-CDO-ALLDAYEVENT:FALSE
SUMMARY:BCC Volleyball
DESCRIPTION:Kirkman Gym\, Barton vs. Colby Community College.
X-ALT-DESC;FMTTYPE=text/html:<span style="color: rgb(34\, 34\, 34)\; font-family: Calibri\, sans-serif\; font-size: 14.6667px\;">Kirkman Gym\, Barton vs. Colby Community College.</span>
LOCATION:Barton Community Collage
UID:e.2303.17837
SEQUENCE:3
DTSTAMP:20260420T191456Z
URL:http://greatbend.chambermaster.com/events/details/bcc-volleyball-17837
END:VEVENT

END:VCALENDAR
