BEGIN:VCALENDAR
VERSION:2.0
PRODID:-//ChamberMaster//Event Calendar 2.0//EN
METHOD:PUBLISH
X-PUBLISHED-TTL:P3D
REFRESH-INTERVAL:P3D
CALSCALE:GREGORIAN
BEGIN:VEVENT
DTSTART:20250926T210000Z
DTEND:20250926T220000Z
X-MICROSOFT-CDO-ALLDAYEVENT:FALSE
SUMMARY:BBC Men's Soccer
DESCRIPTION:Barton vs. Otero College.
X-ALT-DESC;FMTTYPE=text/html:<span style="color: rgb(34\, 34\, 34)\; font-family: Calibri\, sans-serif\; font-size: 14.6667px\;">Barton vs. Otero College.</span>
LOCATION:Cavanaugh Field\, Great Bend
UID:e.2303.17839
SEQUENCE:3
DTSTAMP:20260425T013318Z
URL:http://greatbend.chambermaster.com/events/details/bbc-men-s-soccer-17839
END:VEVENT

END:VCALENDAR
