BEGIN:VCALENDAR
VERSION:2.0
PRODID:-//ChamberMaster//Event Calendar 2.0//EN
METHOD:PUBLISH
X-PUBLISHED-TTL:P3D
REFRESH-INTERVAL:P3D
CALSCALE:GREGORIAN
BEGIN:VEVENT
DTSTART:20250826T223000Z
DTEND:20250827T010000Z
X-MICROSOFT-CDO-ALLDAYEVENT:FALSE
SUMMARY:Barton Volleyball
DESCRIPTION:Barton Gym\; Barton vs. Butler Community College
X-ALT-DESC;FMTTYPE=text/html:Barton Gym\; Barton vs. Butler Community College
LOCATION:Barton Community College
UID:e.2303.17791
SEQUENCE:3
DTSTAMP:20260422T212531Z
URL:http://greatbend.chambermaster.com/events/details/barton-volleyball-17791
END:VEVENT

END:VCALENDAR
