BEGIN:VCALENDAR
VERSION:2.0
PRODID:-//ChamberMaster//Event Calendar 2.0//EN
METHOD:PUBLISH
X-PUBLISHED-TTL:P3D
REFRESH-INTERVAL:P3D
CALSCALE:GREGORIAN
BEGIN:VEVENT
DTSTART:20250812T223000Z
DTEND:20250813T010000Z
X-MICROSOFT-CDO-ALLDAYEVENT:FALSE
SUMMARY:Barton Volleyball
DESCRIPTION:Barton Gym\; Barton vs. Cowley (Scrimmage)
X-ALT-DESC;FMTTYPE=text/html:Barton Gym\; Barton vs. Cowley (Scrimmage)
LOCATION:Barton Community College
UID:e.2303.17788
SEQUENCE:3
DTSTAMP:20260420T205059Z
URL:http://greatbend.chambermaster.com/events/details/barton-volleyball-17788
END:VEVENT

END:VCALENDAR
