BEGIN:VCALENDAR
VERSION:2.0
PRODID:-//ChamberMaster//Event Calendar 2.0//EN
METHOD:PUBLISH
X-PUBLISHED-TTL:P3D
REFRESH-INTERVAL:P3D
CALSCALE:GREGORIAN
BEGIN:VEVENT
DTSTART:20250116T230000Z
DTEND:20250117T010000Z
X-MICROSOFT-CDO-ALLDAYEVENT:FALSE
SUMMARY:Barton Spring Production Auditions
DESCRIPTION:5-7 p.m.\, Fine Arts Auditorium. Auditions will be held for the spring play "Jack Kilby and the Invention of the Integrated Circuit\," by Rob Munden about the Nobel Prize winning electrical engineer from Great Bend. All roles and technical positions will be cast.
X-ALT-DESC;FMTTYPE=text/html:5-7 p.m.\, Fine Arts Auditorium. Auditions will be held for the spring play &ldquo\;Jack Kilby and the Invention of the Integrated Circuit\,&rdquo\; by Rob Munden about the Nobel Prize winning electrical engineer from Great Bend. All roles and technical positions will be cast.
LOCATION:Barton Fine Arts Auditorium
UID:e.2303.16079
SEQUENCE:3
DTSTAMP:20260422T191300Z
URL:http://greatbend.chambermaster.com/events/details/barton-spring-production-auditions-16079
END:VEVENT

END:VCALENDAR
