BEGIN:VCALENDAR
VERSION:2.0
PRODID:-//ChamberMaster//Event Calendar 2.0//EN
METHOD:PUBLISH
X-PUBLISHED-TTL:P3D
REFRESH-INTERVAL:P3D
CALSCALE:GREGORIAN
BEGIN:VEVENT
DTSTART:20250416T180000Z
DTEND:20250416T220000Z
X-MICROSOFT-CDO-ALLDAYEVENT:FALSE
SUMMARY:Barton Softball
DESCRIPTION:Barton vs. Pratt Community College
X-ALT-DESC;FMTTYPE=text/html:Barton vs. Pratt Community College
LOCATION:Barton Community College Barton Softball Field 245 NE 30 Road Great Bend\, KS 67530
UID:e.2303.16548
SEQUENCE:3
DTSTAMP:20260421T154348Z
URL:http://greatbend.chambermaster.com/events/details/barton-softball-04-16-2025-16548
END:VEVENT

END:VCALENDAR
