BEGIN:VCALENDAR
VERSION:2.0
PRODID:-//ChamberMaster//Event Calendar 2.0//EN
METHOD:PUBLISH
X-PUBLISHED-TTL:P3D
REFRESH-INTERVAL:P3D
CALSCALE:GREGORIAN
BEGIN:VEVENT
DTSTART:20250402T180000Z
DTEND:20250402T220000Z
X-MICROSOFT-CDO-ALLDAYEVENT:FALSE
SUMMARY:Barton Softball
DESCRIPTION:Barton vs. Colby Community College
X-ALT-DESC;FMTTYPE=text/html:Barton vs. Colby Community College
LOCATION:Barton Softball Field 245 NE 30 Road Great Bend\, KS 67530
UID:e.2303.16538
SEQUENCE:3
DTSTAMP:20260422T214401Z
URL:http://greatbend.chambermaster.com/events/details/barton-softball-04-02-2025-16538
END:VEVENT

END:VCALENDAR
