BEGIN:VCALENDAR
VERSION:2.0
PRODID:-//ChamberMaster//Event Calendar 2.0//EN
METHOD:PUBLISH
X-PUBLISHED-TTL:P3D
REFRESH-INTERVAL:P3D
CALSCALE:GREGORIAN
BEGIN:VEVENT
DTSTART:20241120T153000Z
DTEND:20241120T190000Z
X-MICROSOFT-CDO-ALLDAYEVENT:FALSE
SUMMARY:Barton Senior Day
DESCRIPTION:9:30 a.m.   1 p.m.\, Barton Community College will help area high school seniors plan for their futures and will feature campus tours\, advising and admissions information\, housing and student life information and much more. $6\,000 in scholarships will be raffled. Lunch is included. The event is free. Visit seniorday.bartonccc.edu for more information.
X-ALT-DESC;FMTTYPE=text/html:&nbsp\;9:30 a.m. &ndash\; 1 p.m.\, Barton Community College will help area high school seniors plan for their futures and will feature campus tours\, advising and admissions information\, housing and student life information and much more. $6\,000 in scholarships will be raffled. Lunch is included. The event is free. Visit seniorday.bartonccc.edu for more information.
LOCATION:Barton Community College
UID:e.2303.15137
SEQUENCE:3
DTSTAMP:20260423T162411Z
URL:http://greatbend.chambermaster.com/events/details/barton-senior-day-15137
END:VEVENT

END:VCALENDAR
