BEGIN:VCALENDAR
VERSION:2.0
PRODID:-//ChamberMaster//Event Calendar 2.0//EN
METHOD:PUBLISH
X-PUBLISHED-TTL:P3D
REFRESH-INTERVAL:P3D
CALSCALE:GREGORIAN
BEGIN:VEVENT
DTSTART;VALUE=DATE:20250908
DTEND;VALUE=DATE:20250909
TRANSP:TRANSPARENT
X-MICROSOFT-CDO-ALLDAYEVENT:TRUE
SUMMARY:Barton Online Fall Session 3 (6 weeks) Activity/Attendance Drops
DESCRIPTION:Barton Online Fall Session 3 (6 weeks) Activity/Attendance Drops
X-ALT-DESC;FMTTYPE=text/html:<span style="font-family:calibri\,sans-serif\;"><span style="font-size:11pt\;">Barton Online Fall Session 3 (6 weeks) Activity/Attendance Drops</span></span>\n<div>&nbsp\;</div>\n
LOCATION:
UID:e.2303.17824
SEQUENCE:3
DTSTAMP:20260420T181000Z
URL:http://greatbend.chambermaster.com/events/details/barton-online-fall-session-3-6-weeks-activity-attendance-drops-17824
END:VEVENT

END:VCALENDAR
