BEGIN:VCALENDAR
VERSION:2.0
PRODID:-//ChamberMaster//Event Calendar 2.0//EN
METHOD:PUBLISH
X-PUBLISHED-TTL:P3D
REFRESH-INTERVAL:P3D
CALSCALE:GREGORIAN
BEGIN:VEVENT
DTSTART:20250402T213000Z
DTEND:20250402T230000Z
X-MICROSOFT-CDO-ALLDAYEVENT:FALSE
SUMMARY:Barton Music Students Spring Recitals
DESCRIPTION:Barton music students will showcase a diverse range of styles and genres\, featuring vocal\, brass\, woodwind\, strings\, percussion\, guitar\, piano\, organ\, ensembles\, and chamber music performances.
X-ALT-DESC;FMTTYPE=text/html:Barton music students will showcase a diverse range of styles and genres\, featuring vocal\, brass\, woodwind\, strings\, percussion\, guitar\, piano\, organ\, ensembles\, and chamber music performances.
LOCATION:Fine Arts Building Dorothy Moses Morrison Chapel 245 NE 30 Rd\, Great Bend\, KS 67530
UID:e.2303.16535
SEQUENCE:3
DTSTAMP:20260423T044453Z
URL:http://greatbend.chambermaster.com/events/details/barton-music-students-spring-recitals-16535
END:VEVENT

END:VCALENDAR
