BEGIN:VCALENDAR
VERSION:2.0
PRODID:-//ChamberMaster//Event Calendar 2.0//EN
METHOD:PUBLISH
X-PUBLISHED-TTL:P3D
REFRESH-INTERVAL:P3D
CALSCALE:GREGORIAN
BEGIN:VEVENT
DTSTART:20241116T013000Z
DTEND:20241116T030000Z
X-MICROSOFT-CDO-ALLDAYEVENT:FALSE
SUMMARY:Barton Men’s Basketball
DESCRIPTION:7:30 p.m.\, Barton Gymnasium vs. Northern Oklahoma College - Enid.\n\n\n\nContact: Jeremy Coombs\, (620) 792-9279
X-ALT-DESC;FMTTYPE=text/html:7:30 p.m.\, Barton Gymnasium vs. Northern Oklahoma College - Enid.<br />\n<br />\nContact: Jeremy Coombs\, (620) 792-9279
LOCATION:Barton Community College Gym
UID:e.2303.15134
SEQUENCE:3
DTSTAMP:20260424T000443Z
URL:http://greatbend.chambermaster.com/events/details/barton-men-s-basketball-15134
END:VEVENT

END:VCALENDAR
