BEGIN:VCALENDAR
VERSION:2.0
PRODID:-//ChamberMaster//Event Calendar 2.0//EN
METHOD:PUBLISH
X-PUBLISHED-TTL:P3D
REFRESH-INTERVAL:P3D
CALSCALE:GREGORIAN
BEGIN:VEVENT
DTSTART:20250416T140000Z
DTEND:20250416T180000Z
X-MICROSOFT-CDO-ALLDAYEVENT:FALSE
SUMMARY:Barton Enrollment Day
DESCRIPTION:Potential students will have an opportunity to gear up for the fall semester during Barton's popular "Enrollment Day" sessions\, which start on April 15 and will continue throughout the summer.\n\n\n\nStudents can call (620) 792-9286 or visit enroll.bartonccc.edu to sign up or find more information. Registration opens March 17. Students can apply for admission before coming to campus by visiting apply.bartonccc.edu.\n\n\n\nThe sessions are designed to make the enrollment process easy and fast. Students will be able to visit with an academic and financial advisor\, plan and enroll for classes\, take an optional tour of campus\, and more.\n\n\n\nEnrollment day sessions are as follows:\n\n\n\nApril 15 - 1 and 6 p.m.\n\nApril 16 - 9 a.m. and 1 p.m.\n\nApril 23 - 9 a.m. and 1 p.m.\n\nApril 26 - 9 a.m.\n\nMay 14 - 1 p.m.\n\nMay 28 - 1 p.m.\n\nJune 4 - 1 p.m.\n\nJune 18 - 1 p.m.\n\nJuly 9 - 1 p.m.\n\nJuly 23 - 1 p.m.\n\n\n\nContact the admissions office at admissions@bartonccc.edu for more information or to schedule your enrollment via email or phone.
X-ALT-DESC;FMTTYPE=text/html:Potential students will have an opportunity to gear up for the fall semester during Barton&rsquo\;s popular &ldquo\;Enrollment Day&rdquo\; sessions\, which start on April 15 and will continue throughout the summer.<br />\n<br />\nStudents can call (620) 792-9286 or visit enroll.bartonccc.edu to sign up or find more information. Registration opens March 17. Students can apply for admission before coming to campus by visiting apply.bartonccc.edu.<br />\n<br />\nThe sessions are designed to make the enrollment process easy and fast. Students will be able to visit with an academic and financial advisor\, plan and enroll for classes\, take an optional tour of campus\, and more.<br />\n<br />\nEnrollment day sessions are as follows:<br />\n<br />\nApril 15 - 1 and 6 p.m.<br />\nApril 16 - 9 a.m. and 1 p.m.<br />\nApril 23 - 9 a.m. and 1 p.m.<br />\nApril 26 - 9 a.m.<br />\nMay 14 - 1 p.m.<br />\nMay 28 - 1 p.m.<br />\nJune 4 - 1 p.m.<br />\nJune 18 - 1 p.m.<br />\nJuly 9 - 1 p.m.<br />\nJuly 23 - 1 p.m.<br />\n<br />\nContact the admissions office at admissions@bartonccc.edu for more information or to schedule your enrollment via email or phone.
LOCATION:Barton County Community College
UID:e.2303.16513
SEQUENCE:3
DTSTAMP:20260421T172901Z
URL:http://greatbend.chambermaster.com/events/details/barton-enrollment-day-16513
END:VEVENT

END:VCALENDAR
