BEGIN:VCALENDAR
VERSION:2.0
PRODID:-//ChamberMaster//Event Calendar 2.0//EN
METHOD:PUBLISH
X-PUBLISHED-TTL:P3D
REFRESH-INTERVAL:P3D
CALSCALE:GREGORIAN
BEGIN:VEVENT
DTSTART:20250221T160000Z
DTEND:20250221T220000Z
X-MICROSOFT-CDO-ALLDAYEVENT:FALSE
SUMMARY:Barton Cougar Dance Day
DESCRIPTION:Barton Community College's Dance Department invites all dance students aged 12-18 to be a college dance student for a day at the fourth annual "Barton Cougar Dance Day" from 10 a.m. to 4 p.m. Feb. 21 in Studio 34 on the Barton Campus.\n\n\n\nParticipants will take various dance classes\, rehearse with Barton's dance company\, observe a dance team practice\, and learn what it's like to dance in college. \n\n\n\nPlease make sure to register through the link below!
X-ALT-DESC;FMTTYPE=text/html:Barton Community College&rsquo\;s Dance Department invites all dance students aged 12-18 to be a college dance student for a day at the fourth annual &ldquo\;Barton Cougar Dance Day&rdquo\; from 10 a.m. to 4 p.m. Feb. 21 in Studio 34 on the Barton Campus.<br />\n<br />\nParticipants will take various dance classes\, rehearse with Barton&rsquo\;s dance company\, observe a dance team practice\, and learn what it&rsquo\;s like to dance in college.&nbsp\;<br />\n<br />\nPlease make sure to register through the link below!
LOCATION:Barton Community College
UID:e.2303.16400
SEQUENCE:3
DTSTAMP:20260422T211800Z
URL:http://greatbend.chambermaster.com/events/details/barton-cougar-dance-day-16400
END:VEVENT

END:VCALENDAR
