BEGIN:VCALENDAR
VERSION:2.0
PRODID:-//ChamberMaster//Event Calendar 2.0//EN
METHOD:PUBLISH
X-PUBLISHED-TTL:P3D
REFRESH-INTERVAL:P3D
CALSCALE:GREGORIAN
BEGIN:VEVENT
DTSTART:20250510T000000Z
DTEND:20250510T020000Z
X-MICROSOFT-CDO-ALLDAYEVENT:FALSE
SUMMARY:Barton Community College 55th Commencement
DESCRIPTION:Barton Community College's 55th commencement is set for 7 p.m. May 9 in the Barton Gymnasium. The ceremony will also be live-streamed via the Barton Facebook and YouTube pages.\n\n\n\nAfter brief comments from Barton President Dr. Marcus Garstecki\, Vice President of Student Services Angie Maddy will present the 2025 Outstanding Graduate awards to Paige Mink of Dodge City and Tierra Yohon of Stockton.\n\n\n\nVice President of Instruction Elaine Simmons will then present five Distinguished Instructor Awards to English Instructor Justin Brown and Nursing Instructor Heidi McKennon from the Barton County Campus\, Math Instructor Amber Bebout\, Science Instructor Stephenie Brandford-Clark\, and Instructor Ann Ingala from the Fort Riley and Fort Leavenworth Campuses.\n\n\n\nChairman of the Board of Trustees Mike Johnson and Simmons will confer the degrees. Developmental Education Instructor Abby Howe will present the graduates as Dr. Garstecki extends the college's official congratulations on behalf of the Board of Trustees.\n\n\n\nPastor Samuel Ryan is set to lead the invocation.\n\n\n\nFor more information on commencement day activities\, visit bartonccc.edu/graduation/ceremony. For commencement photos\, visit bartonccc.edu/gradpics.
X-ALT-DESC;FMTTYPE=text/html:Barton Community College&rsquo\;s 55th commencement is set for 7 p.m. May 9 in the Barton Gymnasium. The ceremony will also be live-streamed via the Barton Facebook and YouTube pages.<br />\n<br />\nAfter brief comments from Barton President Dr. Marcus Garstecki\, Vice President of Student Services Angie Maddy will present the 2025 Outstanding Graduate awards to Paige Mink of Dodge City and Tierra Yohon of Stockton.<br />\n<br />\nVice President of Instruction Elaine Simmons will then present five Distinguished Instructor Awards to English Instructor Justin Brown and Nursing Instructor Heidi McKennon from the Barton County Campus\, Math Instructor Amber Bebout\, Science Instructor Stephenie Brandford-Clark\, and Instructor Ann Ingala from the Fort Riley and Fort Leavenworth Campuses.<br />\n<br />\nChairman of the Board of Trustees Mike Johnson and Simmons will confer the degrees. Developmental Education Instructor Abby Howe will present the graduates as Dr. Garstecki extends the college&rsquo\;s official congratulations on behalf of the Board of Trustees.<br />\n<br />\nPastor Samuel Ryan is set to lead the invocation.<br />\n<br />\nFor more information on commencement day activities\, visit bartonccc.edu/graduation/ceremony. For commencement photos\, visit bartonccc.edu/gradpics.
LOCATION:Barton Community College\, Gymnasium
UID:e.2303.17116
SEQUENCE:3
DTSTAMP:20260423T142445Z
URL:http://greatbend.chambermaster.com/events/details/barton-community-college-55th-commencement-17116
END:VEVENT

END:VCALENDAR
