BEGIN:VCALENDAR
VERSION:2.0
PRODID:-//ChamberMaster//Event Calendar 2.0//EN
METHOD:PUBLISH
X-PUBLISHED-TTL:P3D
REFRESH-INTERVAL:P3D
CALSCALE:GREGORIAN
BEGIN:VEVENT
DTSTART:20250502T180000Z
DTEND:20250502T230000Z
X-MICROSOFT-CDO-ALLDAYEVENT:FALSE
SUMMARY:Barton Baseball
DESCRIPTION:1 and 3:30 p.m.\, Lawson-Biggs Field\; Barton vs. Coffeyville Community College
X-ALT-DESC;FMTTYPE=text/html:<span style="color: rgb(34\, 34\, 34)\; font-family: Arial\, Helvetica\, sans-serif\; font-size: small\;">1 and 3:30 p.m.\, Lawson-Biggs Field\; Barton vs. Coffeyville Community College</span>
LOCATION:Lawson-Biggs Field
UID:e.2303.16862
SEQUENCE:3
DTSTAMP:20260421T131321Z
URL:http://greatbend.chambermaster.com/events/details/barton-baseball-16862
END:VEVENT

END:VCALENDAR
