BEGIN:VCALENDAR
VERSION:2.0
PRODID:-//ChamberMaster//Event Calendar 2.0//EN
METHOD:PUBLISH
X-PUBLISHED-TTL:P3D
REFRESH-INTERVAL:P3D
CALSCALE:GREGORIAN
BEGIN:VEVENT
DTSTART:20250304T190000Z
DTEND:20250304T230000Z
X-MICROSOFT-CDO-ALLDAYEVENT:FALSE
SUMMARY:Barton Baseball
DESCRIPTION:1 and 3:30 p.m.\, Lawson-Biggs Field\; Barton vs. McPherson College JV.
X-ALT-DESC;FMTTYPE=text/html:1 and 3:30 p.m.\, Lawson-Biggs Field\; Barton vs. McPherson College JV.
LOCATION:Lawson-Biggs Field
UID:e.2303.16439
SEQUENCE:3
DTSTAMP:20260423T012248Z
URL:http://greatbend.chambermaster.com/events/details/barton-baseball-16439
END:VEVENT

END:VCALENDAR
