BEGIN:VCALENDAR
VERSION:2.0
PRODID:-//ChamberMaster//Event Calendar 2.0//EN
METHOD:PUBLISH
X-PUBLISHED-TTL:P3D
REFRESH-INTERVAL:P3D
CALSCALE:GREGORIAN
BEGIN:VEVENT
DTSTART:20250426T180000Z
DTEND:20250426T230000Z
X-MICROSOFT-CDO-ALLDAYEVENT:FALSE
SUMMARY:Barton Baseball
DESCRIPTION:Barton vs. Dodge City Community College
X-ALT-DESC;FMTTYPE=text/html:Barton vs. Dodge City Community College
LOCATION:Barton Community College Lawson-Biggs Field 245 NE 30 Road Great Bend\, KS 67530
UID:e.2303.16552
SEQUENCE:3
DTSTAMP:20260421T154348Z
URL:http://greatbend.chambermaster.com/events/details/barton-baseball-04-26-2025-16552
END:VEVENT

END:VCALENDAR
