BEGIN:VCALENDAR
VERSION:2.0
PRODID:-//ChamberMaster//Event Calendar 2.0//EN
METHOD:PUBLISH
X-PUBLISHED-TTL:P3D
REFRESH-INTERVAL:P3D
CALSCALE:GREGORIAN
BEGIN:VEVENT
DTSTART:20250415T190000Z
DTEND:20250415T220000Z
X-MICROSOFT-CDO-ALLDAYEVENT:FALSE
SUMMARY:Barton Baseball
DESCRIPTION:Barton vs. Cowley College
X-ALT-DESC;FMTTYPE=text/html:Barton vs. Cowley College
LOCATION:Barton Community College Lewis-Biggs Field 245 NE 30 Road Great Bend\, KS 67530
UID:e.2303.16547
SEQUENCE:3
DTSTAMP:20260422T033534Z
URL:http://greatbend.chambermaster.com/events/details/barton-baseball-04-15-2025-16547
END:VEVENT

END:VCALENDAR
