BEGIN:VCALENDAR
VERSION:2.0
PRODID:-//ChamberMaster//Event Calendar 2.0//EN
METHOD:PUBLISH
X-PUBLISHED-TTL:P3D
REFRESH-INTERVAL:P3D
CALSCALE:GREGORIAN
BEGIN:VEVENT
DTSTART:20250412T170000Z
DTEND:20250412T230000Z
X-MICROSOFT-CDO-ALLDAYEVENT:FALSE
SUMMARY:Barton Baseball
DESCRIPTION:Barton vs. Garden City Community Colleg
X-ALT-DESC;FMTTYPE=text/html:Barton vs. Garden City Community Colleg
LOCATION:Barton Community College Lewis-Biggs Field 245 NE 30 Road Great Bend\, KS 67530
UID:e.2303.16545
SEQUENCE:3
DTSTAMP:20260421T154349Z
URL:http://greatbend.chambermaster.com/events/details/barton-baseball-04-12-2025-16545
END:VEVENT

END:VCALENDAR
