BEGIN:VCALENDAR
VERSION:2.0
PRODID:-//ChamberMaster//Event Calendar 2.0//EN
METHOD:PUBLISH
X-PUBLISHED-TTL:P3D
REFRESH-INTERVAL:P3D
CALSCALE:GREGORIAN
BEGIN:VEVENT
DTSTART:20250507T003000Z
DTEND:20250507T020000Z
X-MICROSOFT-CDO-ALLDAYEVENT:FALSE
SUMMARY:Barton Annual Endowment Concert
DESCRIPTION:The Barton Music Department will host its annual Endowment Concert to raise funds for music student scholarships at 7:30 p.m. May 6 in the Fine Arts Auditorium.\n\n\n\nTickets are $10 for adults. Children and students get in for free. All ticket sales and donations at the door go to the Vocal and Instrumental Music Endowment with the Barton Community College Foundation.\n\n\n\nThe concert will feature vocal and instrumental music groups\, including Jazz Ensemble\, Orchestra\, Choir\, and Hilltop Singers.\n\n\n\nDirector of Choral Activities Eric Foley said in addition to being a very important fundraising event it is also a much-needed celebration of all the musicians' efforts.
X-ALT-DESC;FMTTYPE=text/html:The Barton Music Department will host its annual Endowment Concert to raise funds for music student scholarships at 7:30 p.m. May 6 in the Fine Arts Auditorium.<br />\n<br />\nTickets are $10 for adults. Children and students get in for free. All ticket sales and donations at the door go to the Vocal and Instrumental Music Endowment with the Barton Community College Foundation.<br />\n<br />\nThe concert will feature vocal and instrumental music groups\, including Jazz Ensemble\, Orchestra\, Choir\, and Hilltop Singers.<br />\n<br />\nDirector of Choral Activities Eric Foley said in addition to being a very important fundraising event it is also a much-needed celebration of all the musicians&rsquo\; efforts.
LOCATION:Barton Community College\, Fine Arts Auditorium
UID:e.2303.16860
SEQUENCE:3
DTSTAMP:20260421T040739Z
URL:http://greatbend.chambermaster.com/events/details/barton-annual-endowment-concert-16860
END:VEVENT

END:VCALENDAR
