BEGIN:VCALENDAR
VERSION:2.0
PRODID:-//ChamberMaster//Event Calendar 2.0//EN
METHOD:PUBLISH
X-PUBLISHED-TTL:P3D
REFRESH-INTERVAL:P3D
CALSCALE:GREGORIAN
BEGIN:VEVENT
DTSTART;VALUE=DATE:20250805
DTEND;VALUE=DATE:20250806
TRANSP:TRANSPARENT
X-MICROSOFT-CDO-ALLDAYEVENT:TRUE
SUMMARY:Ballots Must be Postmarked
DESCRIPTION:Ballots for the Barton County Primary Election must be postmarked by today.
X-ALT-DESC;FMTTYPE=text/html:Ballots for the Barton County Primary Election must be postmarked by today.
LOCATION:
UID:e.2303.17199
SEQUENCE:3
DTSTAMP:20260421T154349Z
URL:http://greatbend.chambermaster.com/events/details/ballots-must-be-postmarked-17199
END:VEVENT

END:VCALENDAR
