BEGIN:VCALENDAR
VERSION:2.0
PRODID:-//ChamberMaster//Event Calendar 2.0//EN
METHOD:PUBLISH
X-PUBLISHED-TTL:P3D
REFRESH-INTERVAL:P3D
CALSCALE:GREGORIAN
BEGIN:VEVENT
DTSTART:20240817T150000Z
DTEND:20240817T163000Z
X-MICROSOFT-CDO-ALLDAYEVENT:FALSE
SUMMARY:Ballet Master Classes
DESCRIPTION:10-11:30 a.m.\, Aly's Dance Studio\, 1701 K96 Highway\, Great Bend. A full ballet class will be offered by long-time ballet expert Kelley Scott for dance students aged 10 years through adult. Dancers must have a minimum of two years dance experience. This class is designed to help prepare dancers for the upcoming Barton Nutcracker auditions. Hosted by the Barton Dance Department. Cost is $10.
X-ALT-DESC;FMTTYPE=text/html:10-11:30 a.m.\, Aly&rsquo\;s Dance Studio\, 1701 K96 Highway\, Great Bend. A full ballet class will be offered by long-time ballet expert Kelley Scott for dance students aged 10 years through adult. Dancers must have a minimum of two years dance experience. This class is designed to help prepare dancers for the upcoming Barton Nutcracker auditions. Hosted by the Barton Dance Department. Cost is $10.
LOCATION:Aly's Dance Studio
UID:e.2303.13966
SEQUENCE:3
DTSTAMP:20260424T004017Z
URL:http://greatbend.chambermaster.com/events/details/ballet-master-classes-13966
END:VEVENT

END:VCALENDAR
